BEGIN:VCALENDAR
VERSION:2.0
PRODID:-//Yoga HUB - ECPv6.15.20//NONSGML v1.0//EN
CALSCALE:GREGORIAN
METHOD:PUBLISH
X-ORIGINAL-URL:https://yoga-hub.org
X-WR-CALDESC:Events for Yoga HUB
REFRESH-INTERVAL;VALUE=DURATION:PT1H
X-Robots-Tag:noindex
X-PUBLISHED-TTL:PT1H
BEGIN:VTIMEZONE
TZID:America/New_York
BEGIN:DAYLIGHT
TZOFFSETFROM:-0500
TZOFFSETTO:-0400
TZNAME:EDT
DTSTART:20230312T070000
END:DAYLIGHT
BEGIN:STANDARD
TZOFFSETFROM:-0400
TZOFFSETTO:-0500
TZNAME:EST
DTSTART:20231105T060000
END:STANDARD
BEGIN:DAYLIGHT
TZOFFSETFROM:-0500
TZOFFSETTO:-0400
TZNAME:EDT
DTSTART:20240310T070000
END:DAYLIGHT
BEGIN:STANDARD
TZOFFSETFROM:-0400
TZOFFSETTO:-0500
TZNAME:EST
DTSTART:20241103T060000
END:STANDARD
BEGIN:DAYLIGHT
TZOFFSETFROM:-0500
TZOFFSETTO:-0400
TZNAME:EDT
DTSTART:20250309T070000
END:DAYLIGHT
BEGIN:STANDARD
TZOFFSETFROM:-0400
TZOFFSETTO:-0500
TZNAME:EST
DTSTART:20251102T060000
END:STANDARD
BEGIN:DAYLIGHT
TZOFFSETFROM:-0500
TZOFFSETTO:-0400
TZNAME:EDT
DTSTART:20260308T070000
END:DAYLIGHT
BEGIN:STANDARD
TZOFFSETFROM:-0400
TZOFFSETTO:-0500
TZNAME:EST
DTSTART:20261101T060000
END:STANDARD
END:VTIMEZONE
BEGIN:VEVENT
DTSTART;TZID=America/New_York:20251111T191500
DTEND;TZID=America/New_York:20251111T203000
DTSTAMP:20260423T154118
CREATED:20240824T175217Z
LAST-MODIFIED:20250814T032413Z
UID:7440-1762888500-1762893000@yoga-hub.org
SUMMARY:6-week Certification Course: The Art of Connection (Week 6)
DESCRIPTION:Join 6-week certification course on “The Art of Connection with Mind\, Body\, and Soul” to discover the transformative power of yoga\, fostering deep connections within yourself and with others through engaging practices\, engaging presentations and insightful guidance. Program details: here\n\n\n\n\nPlease register using the following link: \n\nhttps://tinyurl.com/conscious-living-2025
URL:https://yoga-hub.org/event/6-week-certification-course-the-art-of-connection-week-6/
LOCATION:Dharmic Prayer Space\, Shapiro Campus Center 317\, 415 South St\, Waltham\, MA\, 02453\, United States
CATEGORIES:Certification course,Wellness,Workshop
ATTACH;FMTTYPE=image/jpeg:https://yoga-hub.org/wp-content/uploads/2024/08/AdobeStock_739631191-web.jpg
ORGANIZER;CN="Yoga HUB%2C Center for Spiritual Life":MAILTO:pbiswas@brandeis.edu
END:VEVENT
BEGIN:VEVENT
DTSTART;TZID=America/New_York:20251104T191500
DTEND;TZID=America/New_York:20251104T203000
DTSTAMP:20260423T154118
CREATED:20240824T175034Z
LAST-MODIFIED:20250814T032348Z
UID:7438-1762283700-1762288200@yoga-hub.org
SUMMARY:6-week Certification Course: The Art of Connection (Week 5)
DESCRIPTION:Join 6-week certification course on “The Art of Connection with Mind\, Body\, and Soul” to discover the transformative power of yoga\, fostering deep connections within yourself and with others through engaging practices\, engaging presentations and insightful guidance. Program details: here\n\n\n\nPlease register using the following link:\n\nhttps://tinyurl.com/conscious-living-2025
URL:https://yoga-hub.org/event/6-week-certification-course-the-art-of-connection-week-5/
LOCATION:Dharmic Prayer Space\, Shapiro Campus Center 317\, 415 South St\, Waltham\, MA\, 02453\, United States
CATEGORIES:Certification course,Wellness,Workshop
ATTACH;FMTTYPE=image/jpeg:https://yoga-hub.org/wp-content/uploads/2024/08/AdobeStock_739631191-web.jpg
ORGANIZER;CN="Yoga HUB%2C Center for Spiritual Life":MAILTO:pbiswas@brandeis.edu
END:VEVENT
BEGIN:VEVENT
DTSTART;TZID=America/New_York:20251028T191500
DTEND;TZID=America/New_York:20251028T203000
DTSTAMP:20260423T154118
CREATED:20240824T174847Z
LAST-MODIFIED:20250814T032304Z
UID:7436-1761678900-1761683400@yoga-hub.org
SUMMARY:6-week Certification Course: The Art of Connection (Week 4)
DESCRIPTION:Join 6-week certification course on “The Art of Connection with Mind\, Body\, and Soul” to discover the transformative power of yoga\, fostering deep connections within yourself and with others through engaging practices\, engaging presentations and insightful guidance. Program details: here\n\n\n\nPlease register using the following link:\n\nhttps://tinyurl.com/conscious-living-2025
URL:https://yoga-hub.org/event/6-week-certification-course-the-art-of-connection-week-4/
LOCATION:Dharmic Prayer Space\, Shapiro Campus Center 317\, 415 South St\, Waltham\, MA\, 02453\, United States
CATEGORIES:Certification course,Wellness,Workshop
ATTACH;FMTTYPE=image/jpeg:https://yoga-hub.org/wp-content/uploads/2024/08/AdobeStock_739631191-web.jpg
ORGANIZER;CN="Yoga HUB%2C Center for Spiritual Life":MAILTO:pbiswas@brandeis.edu
END:VEVENT
BEGIN:VEVENT
DTSTART;TZID=America/New_York:20251021T191500
DTEND;TZID=America/New_York:20251021T203000
DTSTAMP:20260423T154118
CREATED:20240824T174731Z
LAST-MODIFIED:20250814T032232Z
UID:7434-1761074100-1761078600@yoga-hub.org
SUMMARY:6-week Certification Course: The Art of Connection (Week 3)
DESCRIPTION:Join 6-week certification course on “The Art of Connection with Mind\, Body\, and Soul” to discover the transformative power of yoga\, fostering deep connections within yourself and with others through engaging practices\, engaging presentations and insightful guidance. Program details: here\n\n\n\n\nPlease register using the following link: \n\nhttps://tinyurl.com/conscious-living-2025
URL:https://yoga-hub.org/event/6-week-certification-course-the-art-of-connection-week-3/
LOCATION:Dharmic Prayer Space\, Shapiro Campus Center 317\, 415 South St\, Waltham\, MA\, 02453\, United States
CATEGORIES:Certification course,Wellness,Workshop
ATTACH;FMTTYPE=image/jpeg:https://yoga-hub.org/wp-content/uploads/2024/08/AdobeStock_739631191-web.jpg
ORGANIZER;CN="Yoga HUB%2C Center for Spiritual Life":MAILTO:pbiswas@brandeis.edu
END:VEVENT
BEGIN:VEVENT
DTSTART;TZID=America/New_York:20250930T191500
DTEND;TZID=America/New_York:20250930T203000
DTSTAMP:20260423T154118
CREATED:20240824T174610Z
LAST-MODIFIED:20250814T032206Z
UID:7432-1759259700-1759264200@yoga-hub.org
SUMMARY:6-week Certification Course: The Art of Connection (Week 2)
DESCRIPTION:Join 6-week certification course on “The Art of Connection with Mind\, Body\, and Soul” to discover the transformative power of yoga\, fostering deep connections within yourself and with others through engaging practices\, engaging presentations and insightful guidance. Program details: here\n\n\n\nPlease register using the following link:\n\n\n\nhttps://tinyurl.com/conscious-living-2025
URL:https://yoga-hub.org/event/6-week-certification-course-the-art-of-connection-week-2/
LOCATION:Dharmic Prayer Space\, Shapiro Campus Center 317\, 415 South St\, Waltham\, MA\, 02453\, United States
CATEGORIES:Certification course,Wellness,Workshop
ATTACH;FMTTYPE=image/jpeg:https://yoga-hub.org/wp-content/uploads/2024/08/AdobeStock_739631191-web.jpg
ORGANIZER;CN="Yoga HUB%2C Center for Spiritual Life":MAILTO:pbiswas@brandeis.edu
END:VEVENT
BEGIN:VEVENT
DTSTART;TZID=America/New_York:20250909T191500
DTEND;TZID=America/New_York:20250909T203000
DTSTAMP:20260423T154118
CREATED:20240819T181312Z
LAST-MODIFIED:20250814T032138Z
UID:7326-1757445300-1757449800@yoga-hub.org
SUMMARY:6-week Certification Course - The Art of Connection (Week 1)
DESCRIPTION:Join 6-week certification course on “The Art of Connection with Mind\, Body\, and Soul” to discover the transformative power of yoga\, fostering deep connections within yourself and with others through engaging practices\, engaging presentations and insightful guidance. Program details: here \nPlease register using the following link: \nhttps://tinyurl.com/conscious-living-2025 \n\n 
URL:https://yoga-hub.org/event/6-week-certification-course-holistic-harmony/
LOCATION:Dharmic Prayer Space\, Shapiro Campus Center 317\, 415 South St\, Waltham\, MA\, 02453\, United States
CATEGORIES:Certification course,Wellness,Workshop
ATTACH;FMTTYPE=image/jpeg:https://yoga-hub.org/wp-content/uploads/2024/08/AdobeStock_739631191-web.jpg
ORGANIZER;CN="Yoga HUB%2C Center for Spiritual Life":MAILTO:pbiswas@brandeis.edu
END:VEVENT
BEGIN:VEVENT
DTSTART;TZID=America/New_York:20250409T190000
DTEND;TZID=America/New_York:20250409T203000
DTSTAMP:20260423T154118
CREATED:20250116T214258Z
LAST-MODIFIED:20250116T214258Z
UID:7667-1744225200-1744230600@yoga-hub.org
SUMMARY:Celebration Day — Completion Ceremony with a Visiting Monk
DESCRIPTION:Topic: Bhagavad Gita’s conclusions – Transform your life! \nIn this final session\, participants will review key concepts from previous sessions\, learning practical methods to transcend ego\, cultivate inner peace\, and align with a higher purpose through selfless service and devotional practices. \nDetails: https://yoga-hub.org/services/level-two-art-of-connection-with-mind-body-and-soul/ \nRegistration link: https://tinyurl.com/aoc2gita
URL:https://yoga-hub.org/event/celebration-day-completion-ceremony-with-a-visiting-monk/
LOCATION:Dharmic Prayer Space\, Shapiro Campus Center 317\, 415 South St\, Waltham\, MA\, 02453\, United States
CATEGORIES:Certification course,Wellness,Workshop
ATTACH;FMTTYPE=image/png:https://yoga-hub.org/wp-content/uploads/2025/01/Brandeis_aoc2-wp.png
ORGANIZER;CN="Yoga HUB%2C Center for Spiritual Life":MAILTO:pbiswas@brandeis.edu
END:VEVENT
BEGIN:VEVENT
DTSTART;TZID=America/New_York:20250326T190000
DTEND;TZID=America/New_York:20250326T203000
DTSTAMP:20260423T154118
CREATED:20250116T213956Z
LAST-MODIFIED:20250116T213956Z
UID:7665-1743015600-1743021000@yoga-hub.org
SUMMARY:Art of Connection with Mind\, Body and Soul Level 2 - Session 7
DESCRIPTION:Topic: The Yoga of love \nThis seminar explores bhakti yoga\, the path of love and devotion\, as presented in Chapters 9-12 of the Bhagavad Gita. Participants will learn about cultivating a loving relationship with the divine\, the power of sincere devotion\, and how this practice can systematically lead to experiencing the platform of eternality\, bliss and knowledge. \nDetails: https://yoga-hub.org/services/level-two-art-of-connection-with-mind-body-and-soul/ \nRegistration link: https://tinyurl.com/aoc2gita
URL:https://yoga-hub.org/event/art-of-connection-with-mind-body-and-soul-level-2-session-7/
LOCATION:Dharmic Prayer Space\, Shapiro Campus Center 317\, 415 South St\, Waltham\, MA\, 02453\, United States
CATEGORIES:Certification course,Meditation,Wellness,Workshop
ORGANIZER;CN="Yoga HUB%2C Center for Spiritual Life":MAILTO:pbiswas@brandeis.edu
END:VEVENT
BEGIN:VEVENT
DTSTART;TZID=America/New_York:20250312T190000
DTEND;TZID=America/New_York:20250312T203000
DTSTAMP:20260423T154118
CREATED:20250116T213742Z
LAST-MODIFIED:20250116T213742Z
UID:7663-1741806000-1741811400@yoga-hub.org
SUMMARY:Art of Connection with Mind\, Body and Soul Level 2 - Session 6
DESCRIPTION:Topic: The Yoga of interaction \nThis session explores the complex interactions between the individual soul\, material nature\, and the Supreme Being as described in the Bhagavad Gita. Participants will learn about the three modes of nature and how understanding these concepts can lead to ultimate freedom and practical wisdom for daily life. \nDetails: https://yoga-hub.org/services/level-two-art-of-connection-with-mind-body-and-soul/ \nRegistration link: https://tinyurl.com/aoc2gita
URL:https://yoga-hub.org/event/art-of-connection-with-mind-body-and-soul-level-2-session-6/
LOCATION:Dharmic Prayer Space\, Shapiro Campus Center 317\, 415 South St\, Waltham\, MA\, 02453\, United States
CATEGORIES:Certification course,Meditation,Wellness,Workshop
ATTACH;FMTTYPE=image/png:https://yoga-hub.org/wp-content/uploads/2025/01/Brandeis_aoc2-wp.png
ORGANIZER;CN="Yoga HUB%2C Center for Spiritual Life":MAILTO:pbiswas@brandeis.edu
END:VEVENT
BEGIN:VEVENT
DTSTART;TZID=America/New_York:20250305T190000
DTEND;TZID=America/New_York:20250305T203000
DTSTAMP:20260423T154118
CREATED:20250116T213551Z
LAST-MODIFIED:20250116T213551Z
UID:7661-1741201200-1741206600@yoga-hub.org
SUMMARY:Art of Connection with Mind\, Body and Soul Level 2 - Session 5
DESCRIPTION:Topic: Who’s the Boss? \nThis session examines the concept of divine supremacy in the Bhagavad Gita\, exploring the nature of the Supreme Being as the source of all creation and knowledge. Participants will explore the cosmic hierarchy\, cultivating a deep sense of inner confidence and security that empowers them to transcend their personal limitations. \nDetails: https://yoga-hub.org/services/level-two-art-of-connection-with-mind-body-and-soul/ \nRegistration link: https://tinyurl.com/aoc2gita
URL:https://yoga-hub.org/event/art-of-connection-with-mind-body-and-soul-level-2-session-5/
LOCATION:Dharmic Prayer Space\, Shapiro Campus Center 317\, 415 South St\, Waltham\, MA\, 02453\, United States
CATEGORIES:Certification course,Meditation,Wellness,Workshop
ATTACH;FMTTYPE=image/png:https://yoga-hub.org/wp-content/uploads/2025/01/Brandeis_aoc2-wp.png
ORGANIZER;CN="Yoga HUB%2C Center for Spiritual Life":MAILTO:pbiswas@brandeis.edu
END:VEVENT
BEGIN:VEVENT
DTSTART;TZID=America/New_York:20250226T190000
DTEND;TZID=America/New_York:20250226T203000
DTSTAMP:20260423T154118
CREATED:20250116T213354Z
LAST-MODIFIED:20250116T213354Z
UID:7658-1740596400-1740601800@yoga-hub.org
SUMMARY:Art of Connection with Mind\, Body and Soul Level 2 - Session 4
DESCRIPTION:Topic: The Yoga of meditation \nThis session explores the Yoga of Meditation from Chapters 6-8 of the Bhagavad Gita\, focusing on practical techniques for spiritual realization and inner transformation. Participants will learn how meditation\, self-discipline\, and a focused mind can lead to profound spiritual growth and liberation from material bondage. \nDetails: https://yoga-hub.org/services/level-two-art-of-connection-with-mind-body-and-soul/ \nRegistration link: https://tinyurl.com/aoc2gita
URL:https://yoga-hub.org/event/art-of-connection-with-mind-body-and-soul-level-2-session-4/
LOCATION:Dharmic Prayer Space\, Shapiro Campus Center 317\, 415 South St\, Waltham\, MA\, 02453\, United States
CATEGORIES:Certification course,Meditation,Wellness,Workshop
ATTACH;FMTTYPE=image/png:https://yoga-hub.org/wp-content/uploads/2025/01/Brandeis_aoc2-wp.png
ORGANIZER;CN="Yoga HUB%2C Center for Spiritual Life":MAILTO:pbiswas@brandeis.edu
END:VEVENT
BEGIN:VEVENT
DTSTART;TZID=America/New_York:20250212T190000
DTEND;TZID=America/New_York:20250212T203000
DTSTAMP:20260423T154118
CREATED:20250116T213038Z
LAST-MODIFIED:20250116T213254Z
UID:7656-1739386800-1739392200@yoga-hub.org
SUMMARY:Art of Connection with Mind\, Body and Soul Level 2 - Session 3
DESCRIPTION:Topic: The Yoga of action \nThis seminar explores Karma Yoga\, the Yoga of Action\, emphasizing selfless action and detachment from outcomes as paths to spiritual growth. Participants will learn how aligning actions with purpose and performing duties without attachment can transform daily life into a journey of personal and spiritual development. \nDetails: https://yoga-hub.org/services/level-two-art-of-connection-with-mind-body-and-soul/ \nRegistration link: https://tinyurl.com/aoc2gita
URL:https://yoga-hub.org/event/art-of-connection-with-mind-body-and-soul-level-2-session-3/
LOCATION:Dharmic Prayer Space\, Shapiro Campus Center 317\, 415 South St\, Waltham\, MA\, 02453\, United States
CATEGORIES:Certification course,Meditation,Wellness,Workshop
ATTACH;FMTTYPE=image/png:https://yoga-hub.org/wp-content/uploads/2025/01/Brandeis_aoc2-wp.png
ORGANIZER;CN="Yoga HUB%2C Center for Spiritual Life":MAILTO:pbiswas@brandeis.edu
END:VEVENT
BEGIN:VEVENT
DTSTART;TZID=America/New_York:20250205T190000
DTEND;TZID=America/New_York:20250205T203000
DTSTAMP:20260423T154118
CREATED:20250116T212540Z
LAST-MODIFIED:20250116T212713Z
UID:7650-1738782000-1738787400@yoga-hub.org
SUMMARY:Art of Connection with Mind\, Body and Soul Level 2 - Session 2
DESCRIPTION:Topic: Matter and Spirit — the essence of our existence \nThis session explores the fundamental distinction between matter and spirit in the Bhagavad Gita\, revealing the eternal nature of consciousness beyond physical manifestations. Participants will discover how understanding the relationship between the temporary material world and the unchanging spiritual essence can transform their perception of reality and self. \nDetails: https://yoga-hub.org/services/level-two-art-of-connection-with-mind-body-and-soul/ \nRegistration link: https://tinyurl.com/aoc2gita
URL:https://yoga-hub.org/event/7650/
LOCATION:Dharmic Prayer Space\, Shapiro Campus Center 317\, 415 South St\, Waltham\, MA\, 02453\, United States
CATEGORIES:Certification course,Meditation,Wellness,Workshop
ATTACH;FMTTYPE=image/png:https://yoga-hub.org/wp-content/uploads/2025/01/Brandeis_aoc2-wp.png
ORGANIZER;CN="Yoga HUB%2C Center for Spiritual Life":MAILTO:pbiswas@brandeis.edu
END:VEVENT
BEGIN:VEVENT
DTSTART;TZID=America/New_York:20250129T190000
DTEND;TZID=America/New_York:20250129T203000
DTSTAMP:20260423T154118
CREATED:20250116T210641Z
LAST-MODIFIED:20250116T211405Z
UID:7643-1738177200-1738182600@yoga-hub.org
SUMMARY:Meet\, Greet\, Dine and Discuss
DESCRIPTION:Registration link: https://tinyurl.com/meet-dine-discuss
URL:https://yoga-hub.org/event/meet-greet-dine-and-discuss/
LOCATION:Dharmic Prayer Space\, Shapiro Campus Center 317\, 415 South St\, Waltham\, MA\, 02453\, United States
CATEGORIES:Certification course,Dinner,Meetup
ATTACH;FMTTYPE=image/png:https://yoga-hub.org/wp-content/uploads/2025/01/meet_dine_discuss-wp.png
ORGANIZER;CN="Yoga HUB%2C Center for Spiritual Life":MAILTO:pbiswas@brandeis.edu
END:VEVENT
BEGIN:VEVENT
DTSTART;TZID=America/New_York:20240911T190000
DTEND;TZID=America/New_York:20240911T203000
DTSTAMP:20260423T154118
CREATED:20240817T183541Z
LAST-MODIFIED:20240819T181737Z
UID:7230-1726081200-1726086600@yoga-hub.org
SUMMARY:Meet\, Greet and Cook
DESCRIPTION:Come join us to meet\, greet\, cook and enjoy delicious healthy food. All are welcome. \nLearn about some exciting updates in the beginning of Fall 2024.
URL:https://yoga-hub.org/event/meet-greet-and-cook/
LOCATION:Dharmic Prayer Space\, Shapiro Campus Center 317\, 415 South St\, Waltham\, MA\, 02453\, United States
CATEGORIES:Cooking,Meetup
ATTACH;FMTTYPE=image/jpeg:https://yoga-hub.org/wp-content/uploads/2024/08/AdobeStock_752946556-web.jpg
ORGANIZER;CN="Yoga HUB%2C Center for Spiritual Life":MAILTO:pbiswas@brandeis.edu
END:VEVENT
END:VCALENDAR